BEGIN:VCALENDAR
VERSION:2.0
PRODID:-//Water Street Inn - ECPv6.15.20//NONSGML v1.0//EN
CALSCALE:GREGORIAN
METHOD:PUBLISH
X-WR-CALNAME:Water Street Inn
X-ORIGINAL-URL:https://waterstreetinn.us
X-WR-CALDESC:Events for Water Street Inn
REFRESH-INTERVAL;VALUE=DURATION:PT1H
X-Robots-Tag:noindex
X-PUBLISHED-TTL:PT1H
BEGIN:VTIMEZONE
TZID:UTC
BEGIN:STANDARD
TZOFFSETFROM:+0000
TZOFFSETTO:+0000
TZNAME:UTC
DTSTART:20230101T000000
END:STANDARD
END:VTIMEZONE
BEGIN:VEVENT
DTSTART;TZID=UTC:20240511T190000
DTEND;TZID=UTC:20240511T230000
DTSTAMP:20260422T232717
CREATED:20240323T195454Z
LAST-MODIFIED:20240323T195454Z
UID:8583-1715454000-1715468400@waterstreetinn.us
SUMMARY:Inland Seas Live at Charlie's Restaurant and Irish Pub
DESCRIPTION:Established in 2017\, The Inland Seas unites a group of seasoned musicians from Minneapolis\, forming a dynamic Celtic/Americana ensemble. With a blend of rich vocals and instruments including fiddle\, whistle\, guitar\, mandolin\, and percussion\, the band delivers a diverse repertoire ranging from lively pub songs to heartfelt ballads. Join us to immerse yourself in the multifaceted musical journey of The Inland Seas—sing\, dance\, and revel in the various moods they create!
URL:https://waterstreetinn.us/calendar/inland-seas-live-at-charlies-restaurant-and-irish-pub-5/
ATTACH;FMTTYPE=image/jpeg:https://waterstreetinn.us/wp-content/uploads/2023/12/Inland-Seas-1.jpg
END:VEVENT
END:VCALENDAR