BEGIN:VCALENDAR
VERSION:2.0
PRODID:-//Water Street Inn - ECPv6.15.20//NONSGML v1.0//EN
CALSCALE:GREGORIAN
METHOD:PUBLISH
X-WR-CALNAME:Water Street Inn
X-ORIGINAL-URL:https://waterstreetinn.us
X-WR-CALDESC:Events for Water Street Inn
REFRESH-INTERVAL;VALUE=DURATION:PT1H
X-Robots-Tag:noindex
X-PUBLISHED-TTL:PT1H
BEGIN:VTIMEZONE
TZID:UTC
BEGIN:STANDARD
TZOFFSETFROM:+0000
TZOFFSETTO:+0000
TZNAME:UTC
DTSTART:20250101T000000
END:STANDARD
END:VTIMEZONE
BEGIN:VEVENT
DTSTART;TZID=UTC:20260328T190000
DTEND;TZID=UTC:20260328T230000
DTSTAMP:20260421T082813
CREATED:20251223T164711Z
LAST-MODIFIED:20251223T164711Z
UID:10709-1774724400-1774738800@waterstreetinn.us
SUMMARY:Fiddle & Flannels Live Charlie’s Restaurant and Irish Pub
DESCRIPTION:Fiddle and Flannels is a talented ensemble of musicians who specialize in delivering a captivating blend of classic country and lively Irish jigs. With their infectious energy and mastery of their instruments\, they’ll transport you to a world of heartwarming melodies and foot-stomping rhythms. Fiddle and Flannels is your go-to choice for an unforgettable musical experience.
URL:https://waterstreetinn.us/calendar/fiddle-flannels-live-charlies-restaurant-and-irish-pub-6/
ATTACH;FMTTYPE=image/jpeg:https://waterstreetinn.us/wp-content/uploads/2025/01/426457756_264756873312753_2270774576212792925_n.jpg
END:VEVENT
END:VCALENDAR